BEGIN:VCALENDAR
VERSION:2.0
PRODID:-//Notodden bibliotek - ECPv6.15.20//NONSGML v1.0//EN
CALSCALE:GREGORIAN
METHOD:PUBLISH
X-ORIGINAL-URL:https://notoddenbib.no
X-WR-CALDESC:Arrangement for Notodden bibliotek
REFRESH-INTERVAL;VALUE=DURATION:PT1H
X-Robots-Tag:noindex
X-PUBLISHED-TTL:PT1H
BEGIN:VTIMEZONE
TZID:Europe/Oslo
BEGIN:DAYLIGHT
TZOFFSETFROM:+0100
TZOFFSETTO:+0200
TZNAME:CEST
DTSTART:20250330T010000
END:DAYLIGHT
BEGIN:STANDARD
TZOFFSETFROM:+0200
TZOFFSETTO:+0100
TZNAME:CET
DTSTART:20251026T010000
END:STANDARD
BEGIN:DAYLIGHT
TZOFFSETFROM:+0100
TZOFFSETTO:+0200
TZNAME:CEST
DTSTART:20260329T010000
END:DAYLIGHT
BEGIN:STANDARD
TZOFFSETFROM:+0200
TZOFFSETTO:+0100
TZNAME:CET
DTSTART:20261025T010000
END:STANDARD
BEGIN:DAYLIGHT
TZOFFSETFROM:+0100
TZOFFSETTO:+0200
TZNAME:CEST
DTSTART:20270328T010000
END:DAYLIGHT
BEGIN:STANDARD
TZOFFSETFROM:+0200
TZOFFSETTO:+0100
TZNAME:CET
DTSTART:20271031T010000
END:STANDARD
END:VTIMEZONE
BEGIN:VEVENT
DTSTART;TZID=Europe/Oslo:20260509T120000
DTEND;TZID=Europe/Oslo:20260509T140000
DTSTAMP:20260419T162244
CREATED:20260330T122011Z
LAST-MODIFIED:20260330T122011Z
UID:10000036-1778328000-1778335200@notoddenbib.no
SUMMARY:Biblolørdag: Verkstedsaktiviteter
DESCRIPTION:Aktiviteter på Notodden bibliotek. Gratis inngang. \nMer informasjon kommer.
URL:https://notoddenbib.no/event/biblolordag-verkstedsaktiviteter/
LOCATION:Notodden bibliotek\, Notodden bibliotek\, Storgt. 1\, NOTODDEN\, 3674\, Norway
ATTACH;FMTTYPE=image/jpeg:https://notoddenbib.no/wp-content/uploads/2026/03/chris-barbalis-ajHE_KGlbjs-unsplash-scaled.jpg
END:VEVENT
END:VCALENDAR